BEGIN:VCALENDAR
VERSION:2.0
PRODID:-//Speak GmbH - ECPv6.15.20//NONSGML v1.0//EN
CALSCALE:GREGORIAN
METHOD:PUBLISH
X-WR-CALNAME:Speak GmbH
X-ORIGINAL-URL:https://speak.ch
X-WR-CALDESC:Veranstaltungen im Speak GmbH
REFRESH-INTERVAL;VALUE=DURATION:PT1H
X-Robots-Tag:noindex
X-PUBLISHED-TTL:PT1H
BEGIN:VTIMEZONE
TZID:Europe/Zurich
BEGIN:DAYLIGHT
TZOFFSETFROM:+0100
TZOFFSETTO:+0200
TZNAME:CEST
DTSTART:20240331T010000
END:DAYLIGHT
BEGIN:STANDARD
TZOFFSETFROM:+0200
TZOFFSETTO:+0100
TZNAME:CET
DTSTART:20241027T010000
END:STANDARD
BEGIN:DAYLIGHT
TZOFFSETFROM:+0100
TZOFFSETTO:+0200
TZNAME:CEST
DTSTART:20250330T010000
END:DAYLIGHT
BEGIN:STANDARD
TZOFFSETFROM:+0200
TZOFFSETTO:+0100
TZNAME:CET
DTSTART:20251026T010000
END:STANDARD
BEGIN:DAYLIGHT
TZOFFSETFROM:+0100
TZOFFSETTO:+0200
TZNAME:CEST
DTSTART:20260329T010000
END:DAYLIGHT
BEGIN:STANDARD
TZOFFSETFROM:+0200
TZOFFSETTO:+0100
TZNAME:CET
DTSTART:20261025T010000
END:STANDARD
END:VTIMEZONE
BEGIN:VEVENT
DTSTART;TZID=Europe/Zurich:20251124T090000
DTEND;TZID=Europe/Zurich:20251124T170000
DTSTAMP:20260420T135420
CREATED:20241202T191134Z
LAST-MODIFIED:20241202T191134Z
UID:10000064-1763974800-1764003600@speak.ch
SUMMARY:Auftrittskompetenz und Rhetorik
DESCRIPTION:Mit dem Workshop Auftrittskompetenz und Rhetorik erleben Sie\, wie Sie Ihre Stärken und Ressourcen beim Auftreten und in der Rhetorik am besten nutzen. Mit der Teilnahme an an diesem Seminar bereiten Sie sich Ihre Bühne für mehr Wirkung und Präsenz mit Körpersprache\, Stimme und Struktur: https://speak.ch/gruppenworkshop/auftrittskompetenz-und-rhetorik/
URL:https://speak.ch/event/auftrittskompetenz-und-rhetorik-23/
LOCATION:Speak Studio\, Rychenbergstrasse 67 OST\, Winterthur\, Zürich\, 8400\, Schweiz
CATEGORIES:Gruppenworkshop
ATTACH;FMTTYPE=image/jpeg:https://speak.ch/wp-content/uploads/2023/05/6B526F77-E52E-4C35-AA0C-0BBD0B260C85_1_105_c_02.jpeg
ORGANIZER;CN="Speak GmbH":MAILTO:info@speak.ch
END:VEVENT
BEGIN:VEVENT
DTSTART;TZID=Europe/Zurich:20251122T090000
DTEND;TZID=Europe/Zurich:20251122T170000
DTSTAMP:20260420T135420
CREATED:20241202T194548Z
LAST-MODIFIED:20241202T194548Z
UID:10000074-1763802000-1763830800@speak.ch
SUMMARY:Moderation und Meetings leiten
DESCRIPTION:
URL:https://speak.ch/event/moderation-und-meetings-leiten-6/
LOCATION:Speak Studio\, Rychenbergstrasse 67 OST\, Winterthur\, Zürich\, 8400\, Schweiz
CATEGORIES:Gruppenworkshop
ATTACH;FMTTYPE=image/png:https://speak.ch/wp-content/uploads/2023/07/Image_4.png
ORGANIZER;CN="Speak GmbH":MAILTO:info@speak.ch
END:VEVENT
BEGIN:VEVENT
DTSTART;TZID=Europe/Zurich:20251121T090000
DTEND;TZID=Europe/Zurich:20251121T170000
DTSTAMP:20260420T135420
CREATED:20250925T143532Z
LAST-MODIFIED:20250925T143958Z
UID:10000087-1763715600-1763744400@speak.ch
SUMMARY:Wirkungsvolle Kommunikation
DESCRIPTION:Kommunikation spielt sich auf 2 Ebenen ab: Auf der Sachebene und auf der Beziehungsebene. Was aber hat grössere Bedeutung?
URL:https://speak.ch/event/wirkungsvolle-kommunikation/
LOCATION:Speak Studio\, Rychenbergstrasse 67 OST\, Winterthur\, Zürich\, 8400\, Schweiz
CATEGORIES:Gruppenworkshop
ATTACH;FMTTYPE=image/jpeg:https://speak.ch/wp-content/uploads/2024/03/20231113_Speak_Sybille_Sommerer_4131-jpg.webp
ORGANIZER;CN="Speak GmbH":MAILTO:info@speak.ch
END:VEVENT
BEGIN:VEVENT
DTSTART;TZID=Europe/Zurich:20251031T090000
DTEND;TZID=Europe/Zurich:20251031T170000
DTSTAMP:20260420T135420
CREATED:20241202T190839Z
LAST-MODIFIED:20241202T190839Z
UID:10000063-1761901200-1761930000@speak.ch
SUMMARY:Auftrittskompetenz und Rhetorik
DESCRIPTION:Mit dem Workshop Auftrittskompetenz und Rhetorik erleben Sie\, wie Sie Ihre Stärken und Ressourcen beim Auftreten und in der Rhetorik am besten nutzen. Mit der Teilnahme an an diesem Seminar bereiten Sie sich Ihre Bühne für mehr Wirkung und Präsenz mit Körpersprache\, Stimme und Struktur: https://speak.ch/gruppenworkshop/auftrittskompetenz-und-rhetorik/
URL:https://speak.ch/event/auftrittskompetenz-und-rhetorik-22/
LOCATION:Speak Studio\, Rychenbergstrasse 67 OST\, Winterthur\, Zürich\, 8400\, Schweiz
CATEGORIES:Gruppenworkshop
ATTACH;FMTTYPE=image/jpeg:https://speak.ch/wp-content/uploads/2023/05/6B526F77-E52E-4C35-AA0C-0BBD0B260C85_1_105_c_02.jpeg
ORGANIZER;CN="Speak GmbH":MAILTO:info@speak.ch
END:VEVENT
BEGIN:VEVENT
DTSTART;TZID=Europe/Zurich:20250930T090000
DTEND;TZID=Europe/Zurich:20250930T170000
DTSTAMP:20260420T135420
CREATED:20241202T194044Z
LAST-MODIFIED:20241202T194101Z
UID:10000069-1759222800-1759251600@speak.ch
SUMMARY:Professionell Präsentieren mit Powerpoint
DESCRIPTION:
URL:https://speak.ch/event/professionell-praesentieren-mit-powerpoint-5/
LOCATION:Speak Studio\, Rychenbergstrasse 67 OST\, Winterthur\, Zürich\, 8400\, Schweiz
CATEGORIES:Gruppenworkshop
ORGANIZER;CN="Speak GmbH":MAILTO:info@speak.ch
END:VEVENT
BEGIN:VEVENT
DTSTART;TZID=Europe/Zurich:20250929T090000
DTEND;TZID=Europe/Zurich:20250929T170000
DTSTAMP:20260420T135420
CREATED:20241202T190800Z
LAST-MODIFIED:20241202T190800Z
UID:10000062-1759136400-1759165200@speak.ch
SUMMARY:Auftrittskompetenz und Rhetorik
DESCRIPTION:Mit dem Workshop Auftrittskompetenz und Rhetorik erleben Sie\, wie Sie Ihre Stärken und Ressourcen beim Auftreten und in der Rhetorik am besten nutzen. Mit der Teilnahme an an diesem Seminar bereiten Sie sich Ihre Bühne für mehr Wirkung und Präsenz mit Körpersprache\, Stimme und Struktur: https://speak.ch/gruppenworkshop/auftrittskompetenz-und-rhetorik/
URL:https://speak.ch/event/auftrittskompetenz-und-rhetorik-21/
LOCATION:Speak Studio\, Rychenbergstrasse 67 OST\, Winterthur\, Zürich\, 8400\, Schweiz
CATEGORIES:Gruppenworkshop
ATTACH;FMTTYPE=image/jpeg:https://speak.ch/wp-content/uploads/2023/05/6B526F77-E52E-4C35-AA0C-0BBD0B260C85_1_105_c_02.jpeg
ORGANIZER;CN="Speak GmbH":MAILTO:info@speak.ch
END:VEVENT
BEGIN:VEVENT
DTSTART;TZID=Europe/Zurich:20250927T090000
DTEND;TZID=Europe/Zurich:20250927T170000
DTSTAMP:20260420T135420
CREATED:20241202T194759Z
LAST-MODIFIED:20241202T194759Z
UID:10000076-1758963600-1758992400@speak.ch
SUMMARY:Medientraining
DESCRIPTION:
URL:https://speak.ch/event/medientraining-6/
LOCATION:Speak Studio\, Rychenbergstrasse 67 OST\, Winterthur\, Zürich\, 8400\, Schweiz
CATEGORIES:Gruppenworkshop
ATTACH;FMTTYPE=image/jpeg:https://speak.ch/wp-content/uploads/2023/07/D1A936C0-6915-45E5-AE96-DC5060DF1AA7_1_201_a.jpeg
ORGANIZER;CN="Speak GmbH":MAILTO:info@speak.ch
END:VEVENT
END:VCALENDAR