BEGIN:VCALENDAR
VERSION:2.0
PRODID:-//Speak GmbH - ECPv6.15.20//NONSGML v1.0//EN
CALSCALE:GREGORIAN
METHOD:PUBLISH
X-WR-CALNAME:Speak GmbH
X-ORIGINAL-URL:https://speak.ch
X-WR-CALDESC:Veranstaltungen im Speak GmbH
REFRESH-INTERVAL;VALUE=DURATION:PT1H
X-Robots-Tag:noindex
X-PUBLISHED-TTL:PT1H
BEGIN:VTIMEZONE
TZID:Europe/Zurich
BEGIN:DAYLIGHT
TZOFFSETFROM:+0100
TZOFFSETTO:+0200
TZNAME:CEST
DTSTART:20250330T010000
END:DAYLIGHT
BEGIN:STANDARD
TZOFFSETFROM:+0200
TZOFFSETTO:+0100
TZNAME:CET
DTSTART:20251026T010000
END:STANDARD
BEGIN:DAYLIGHT
TZOFFSETFROM:+0100
TZOFFSETTO:+0200
TZNAME:CEST
DTSTART:20260329T010000
END:DAYLIGHT
BEGIN:STANDARD
TZOFFSETFROM:+0200
TZOFFSETTO:+0100
TZNAME:CET
DTSTART:20261025T010000
END:STANDARD
BEGIN:DAYLIGHT
TZOFFSETFROM:+0100
TZOFFSETTO:+0200
TZNAME:CEST
DTSTART:20270328T010000
END:DAYLIGHT
BEGIN:STANDARD
TZOFFSETFROM:+0200
TZOFFSETTO:+0100
TZNAME:CET
DTSTART:20271031T010000
END:STANDARD
END:VTIMEZONE
BEGIN:VEVENT
DTSTART;TZID=Europe/Zurich:20260430T090000
DTEND;TZID=Europe/Zurich:20260430T170000
DTSTAMP:20260424T185308
CREATED:20250926T093743Z
LAST-MODIFIED:20250926T093847Z
UID:10000106-1777539600-1777568400@speak.ch
SUMMARY:Auftrittskompetenz und Rhetorik
DESCRIPTION:Mit dem Workshop Auftrittskompetenz und Rhetorik erleben Sie\, wie Sie Ihre Stärken und Ressourcen beim Auftreten und in der Rhetorik am besten nutzen. Mit der Teilnahme an an diesem Seminar bereiten Sie sich Ihre Bühne für mehr Wirkungskraft.
URL:https://speak.ch/event/auftrittskompetenz-und-rhetorik-4/
LOCATION:Speak Studio\, Rychenbergstrasse 67 OST\, Winterthur\, Zürich\, 8400\, Schweiz
CATEGORIES:Gruppenworkshop
ATTACH;FMTTYPE=image/jpeg:https://speak.ch/wp-content/uploads/2023/08/IMG_0515.jpeg
ORGANIZER;CN="Speak GmbH":MAILTO:info@speak.ch
END:VEVENT
BEGIN:VEVENT
DTSTART;TZID=Europe/Zurich:20260527T090000
DTEND;TZID=Europe/Zurich:20260527T170000
DTSTAMP:20260424T185308
CREATED:20251027T120108Z
LAST-MODIFIED:20251027T120108Z
UID:10000129-1779872400-1779901200@speak.ch
SUMMARY:Auftrittskompetenz und Rhetorik
DESCRIPTION:Mit dem Workshop Auftrittskompetenz und Rhetorik erleben\, wie Sie Ihre Stärken und Ressourcen beim Auftreten und in der Rhetorik am besten nutzen. Mit der Teilnahme an an diesem Seminar bereiten Sie sich Ihre Bühne für mehr Wirkungskraft.
URL:https://speak.ch/event/auftrittskompetenz-und-rhetorik-5/
LOCATION:Speak Studio\, Rychenbergstrasse 67 OST\, Winterthur\, Zürich\, 8400\, Schweiz
CATEGORIES:Gruppenworkshop
ATTACH;FMTTYPE=image/jpeg:https://speak.ch/wp-content/uploads/2023/08/IMG_0515.jpeg
ORGANIZER;CN="Speak GmbH":MAILTO:info@speak.ch
END:VEVENT
BEGIN:VEVENT
DTSTART;TZID=Europe/Zurich:20260624T090000
DTEND;TZID=Europe/Zurich:20260624T170000
DTSTAMP:20260424T185308
CREATED:20260218T102930Z
LAST-MODIFIED:20260218T103223Z
UID:10000132-1782291600-1782320400@speak.ch
SUMMARY:Auftrittskompetenz und Rhetorik
DESCRIPTION:Mit dem Workshop Auftrittskompetenz und Rhetorik erleben Sie\, wie Sie Ihre Stärken und Ressourcen beim Auftreten und in der Rhetorik am besten nutzen. Mit der Teilnahme an an diesem Seminar bereiten Sie sich Ihre Bühne für mehr Wirkungskraft.
URL:https://speak.ch/event/37686/
LOCATION:Speak Studio\, Rychenbergstrasse 67 OST\, Winterthur\, Zürich\, 8400\, Schweiz
CATEGORIES:Gruppenworkshop
ATTACH;FMTTYPE=image/jpeg:https://speak.ch/wp-content/uploads/2023/08/IMG_0515.jpeg
ORGANIZER;CN="Speak GmbH":MAILTO:info@speak.ch
END:VEVENT
BEGIN:VEVENT
DTSTART;TZID=Europe/Zurich:20260724T090000
DTEND;TZID=Europe/Zurich:20260724T170000
DTSTAMP:20260424T185308
CREATED:20260218T103448Z
LAST-MODIFIED:20260218T103558Z
UID:10000133-1784883600-1784912400@speak.ch
SUMMARY:Auftrittskompetenz und Rhetorik
DESCRIPTION:Mit dem Workshop Auftrittskompetenz und Rhetorik nutzen Sie Ihre Stärken und Ressourcen beim Auftreten und in der Rhetorik optimal. Mit der Teilnahme an an diesem Seminar bereiten Sie sich Ihre Bühne für mehr Wirkungskraft.
URL:https://speak.ch/event/auftrittskompetenz-und-rhetorik-6/
LOCATION:Speak Studio\, Rychenbergstrasse 67 OST\, Winterthur\, Zürich\, 8400\, Schweiz
CATEGORIES:Gruppenworkshop
ATTACH;FMTTYPE=image/jpeg:https://speak.ch/wp-content/uploads/2023/08/IMG_0515.jpeg
ORGANIZER;CN="Speak GmbH":MAILTO:info@speak.ch
END:VEVENT
BEGIN:VEVENT
DTSTART;TZID=Europe/Zurich:20260826T090000
DTEND;TZID=Europe/Zurich:20260826T170000
DTSTAMP:20260424T185308
CREATED:20260218T103800Z
LAST-MODIFIED:20260218T103849Z
UID:10000134-1787734800-1787763600@speak.ch
SUMMARY:Auftrittskompetenz und Rhetorik
DESCRIPTION:Mit dem Workshop Auftrittskompetenz und Rhetorik nutzen Sie Ihre Stärken und Ressourcen beim Auftreten und in der Rhetorik optimal. Mit der Teilnahme an an diesem Seminar bereiten Sie sich Ihre Bühne für mehr Wirkungskraft.
URL:https://speak.ch/event/auftrittskompetenz-und-rhetorik-7/
LOCATION:Speak Studio\, Rychenbergstrasse 67 OST\, Winterthur\, Zürich\, 8400\, Schweiz
CATEGORIES:Gruppenworkshop
ATTACH;FMTTYPE=image/jpeg:https://speak.ch/wp-content/uploads/2023/08/IMG_0515.jpeg
ORGANIZER;CN="Speak GmbH":MAILTO:info@speak.ch
END:VEVENT
BEGIN:VEVENT
DTSTART;TZID=Europe/Zurich:20260921T090000
DTEND;TZID=Europe/Zurich:20260921T170000
DTSTAMP:20260424T185308
CREATED:20260218T104059Z
LAST-MODIFIED:20260218T104151Z
UID:10000135-1789981200-1790010000@speak.ch
SUMMARY:Auftrittskompetenz und Rhetorik
DESCRIPTION:Mit dem Workshop Auftrittskompetenz und Rhetorik nutzen Sie Ihre Stärken und Ressourcen beim Auftreten und in der Rhetorik optimal. Mit der Teilnahme an an diesem Seminar bereiten Sie sich Ihre Bühne für mehr Wirkungskraft.
URL:https://speak.ch/event/auftrittskompetenz-und-rhetorik-8/
LOCATION:Speak Studio\, Rychenbergstrasse 67 OST\, Winterthur\, Zürich\, 8400\, Schweiz
CATEGORIES:Gruppenworkshop
ATTACH;FMTTYPE=image/jpeg:https://speak.ch/wp-content/uploads/2023/08/IMG_0515.jpeg
ORGANIZER;CN="Speak GmbH":MAILTO:info@speak.ch
END:VEVENT
BEGIN:VEVENT
DTSTART;TZID=Europe/Zurich:20261029T090000
DTEND;TZID=Europe/Zurich:20261029T170000
DTSTAMP:20260424T185308
CREATED:20260218T104620Z
LAST-MODIFIED:20260218T104719Z
UID:10000136-1793264400-1793293200@speak.ch
SUMMARY:Auftrittskompetenz und Rhetorik
DESCRIPTION:Mit dem Workshop Auftrittskompetenz und Rhetorik nutzen Sie Ihre Stärken und Ressourcen beim Auftreten und in der Rhetorik optimal. Mit der Teilnahme an an diesem Seminar bereiten Sie sich Ihre Bühne für mehr Wirkungskraft.
URL:https://speak.ch/event/auftrittskompetenz-und-rhetorik-9/
LOCATION:Speak Studio\, Rychenbergstrasse 67 OST\, Winterthur\, Zürich\, 8400\, Schweiz
CATEGORIES:Gruppenworkshop
ATTACH;FMTTYPE=image/jpeg:https://speak.ch/wp-content/uploads/2023/08/IMG_0515.jpeg
ORGANIZER;CN="Speak GmbH":MAILTO:info@speak.ch
END:VEVENT
BEGIN:VEVENT
DTSTART;TZID=Europe/Zurich:20261127T090000
DTEND;TZID=Europe/Zurich:20261127T170000
DTSTAMP:20260424T185308
CREATED:20260218T104915Z
LAST-MODIFIED:20260218T105004Z
UID:10000137-1795770000-1795798800@speak.ch
SUMMARY:Auftrittskompetenz und Rhetorik
DESCRIPTION:Mit dem Workshop Auftrittskompetenz und Rhetorik nutzen Sie Ihre Stärken und Ressourcen beim Auftreten und in der Rhetorik optimal. Mit der Teilnahme an an diesem Seminar bereiten Sie sich Ihre Bühne für mehr Wirkungskraft.
URL:https://speak.ch/event/auftrittskompetenz-und-rhetorik-10/
LOCATION:Speak Studio\, Rychenbergstrasse 67 OST\, Winterthur\, Zürich\, 8400\, Schweiz
CATEGORIES:Gruppenworkshop
ATTACH;FMTTYPE=image/jpeg:https://speak.ch/wp-content/uploads/2023/08/IMG_0515.jpeg
ORGANIZER;CN="Speak GmbH":MAILTO:info@speak.ch
END:VEVENT
END:VCALENDAR