BEGIN:VCALENDAR
VERSION:2.0
PRODID:-//Speak GmbH - ECPv6.15.20//NONSGML v1.0//EN
CALSCALE:GREGORIAN
METHOD:PUBLISH
X-WR-CALNAME:Speak GmbH
X-ORIGINAL-URL:https://speak.ch
X-WR-CALDESC:Veranstaltungen im Speak GmbH
REFRESH-INTERVAL;VALUE=DURATION:PT1H
X-Robots-Tag:noindex
X-PUBLISHED-TTL:PT1H
BEGIN:VTIMEZONE
TZID:Europe/Zurich
BEGIN:DAYLIGHT
TZOFFSETFROM:+0100
TZOFFSETTO:+0200
TZNAME:CEST
DTSTART:20250330T010000
END:DAYLIGHT
BEGIN:STANDARD
TZOFFSETFROM:+0200
TZOFFSETTO:+0100
TZNAME:CET
DTSTART:20251026T010000
END:STANDARD
BEGIN:DAYLIGHT
TZOFFSETFROM:+0100
TZOFFSETTO:+0200
TZNAME:CEST
DTSTART:20260329T010000
END:DAYLIGHT
BEGIN:STANDARD
TZOFFSETFROM:+0200
TZOFFSETTO:+0100
TZNAME:CET
DTSTART:20261025T010000
END:STANDARD
BEGIN:DAYLIGHT
TZOFFSETFROM:+0100
TZOFFSETTO:+0200
TZNAME:CEST
DTSTART:20270328T010000
END:DAYLIGHT
BEGIN:STANDARD
TZOFFSETFROM:+0200
TZOFFSETTO:+0100
TZNAME:CET
DTSTART:20271031T010000
END:STANDARD
END:VTIMEZONE
BEGIN:VEVENT
DTSTART;TZID=Europe/Zurich:20260126T090000
DTEND;TZID=Europe/Zurich:20260126T170000
DTSTAMP:20260425T054749
CREATED:20250926T061828Z
LAST-MODIFIED:20250926T061924Z
UID:10000103-1769418000-1769446800@speak.ch
SUMMARY:Auftrittskompetenz und Rhetorik
DESCRIPTION:The messenger IS the message!“ Sie sind der Messenger. In unserem Workshop “Auftrittskompetenz und Rhetorik” lernen Sie in kürzester Zeit wie Sie Ihre Wirkung professionalisieren. Sie stehen mehrmals vor der Kamera\, erhalten Feedback und arbeiten an Ihrem Auftritt.
URL:https://speak.ch/event/auftrittskompetenz-und-rhetorik/
LOCATION:Speak Studio\, Rychenbergstrasse 67 OST\, Winterthur\, Zürich\, 8400\, Schweiz
CATEGORIES:Gruppenworkshop
ATTACH;FMTTYPE=image/jpeg:https://speak.ch/wp-content/uploads/2023/08/IMG_0515.jpeg
ORGANIZER;CN="Speak GmbH":MAILTO:info@speak.ch
END:VEVENT
END:VCALENDAR